{"text_format":"1","workbook":"xlsx","n_sheets":4,"sheets":["717-1","717-2","Munka1","Munka2"],"not_rendered":{"charts":2,"images":0,"macros":1,"external_links":0,"defined_names":1,"comments":0,"pivot_tables":0},"unopened":[],"bounds":{"document_bytes":16777216,"sheet_cells":100000,"rows_first":2000,"rows_last":500,"rows_between":2000,"halvings":0,"cell_chars":16384,"cell_head_chars":4096},"cells_cut":0,"cells_raw":0,"read":"whole","date_system":"1900"}

{"sheet":"717-1","index":0,"n_rows":44,"n_cols":6,"rows_kept":44,"cut":false,"hidden":false,"merged":[]}
[]
[null,null,null,"Rw =",{"$f":"IF(E4<32,52-D4,\"\")","v":31}]
[]
[null,null,0.5,21,{"$f":"+E25","v":29},{"$f":"D4+C4","v":21.5}]
["f",null,"Rmért","eltolt vonatk.","kedvezőtlen"]
["Hz",null,null,"görbe","eltérés"]
[]
[100,33,20,{"$f":"B8-D$4","v":12},{"$f":"IF(D8>C8,D8-C8,\"\")","v":""}]
[125,36,14,{"$f":"B9-D$4","v":15},{"$f":"IF(D9>C9,D9-C9,\"\")","v":1}]
[160,39,20,18,""]
[200,42,24,21,""]
[250,45,32,24,""]
[315,48,28,27,""]
[400,51,29,30,1]
[500,52,32,31,""]
[630,53,32,32,""]
[800,54,31,33,2]
[1000,55,27,34,7]
[1250,56,28,35,7]
[1600,56,28,35,7]
[2000,56,32,35,3]
[2500,56,34,35,1]
[3150,56,37,35,""]
[]
[null,null,null,null,{"$f":"SUM(E8:E23)","v":29}]
[]
[]
[]
[26.039949197995863,18,20]
[28.387165637078212,22,14]
[25.305270507731198,19,20]
[27.668481013425936,26,24]
[22.554055643840822,30,32]
[26.24523853510965,32,28]
[24.965261094991021,34,29]
[24.429223422235381,38,32]
[25.169040679506686,38,32]
[26.353491577905512,39,31]
[26.369175557441523,41,27]
[24.571716226264627,42,28]
[27.284322413302608,40,28]
[26.697347778385979,38,32]
[27.358324011882292,36,34]
[25.526508594864282,35,37]

{"sheet":"717-2","index":1,"n_rows":25,"n_cols":17,"rows_kept":25,"cut":false,"hidden":false,"merged":[]}
[]
[null,null,null,"Ln,w =",{"$f":"D15","v":46}]
[]
[null,null,0.5,14,null,{"$f":"D4+C4","v":14.5}]
["f",null,"L'mért","eltolt vonatk.","kedvezőtlen",null,null,null,null,null,null,null,null,null,null,{"$f":"D25","v":15}]
["Hz",null,null,"görbe","eltérés"]
[]
[100,62,{"$f":"P8+Q8","v":57.367133615773838},{"$f":"B8-D$4","v":48},{"$f":"IF(C8>D8,C8-D8,\"\")","v":9.3671336157738381},null,null,null,null,null,null,null,null,null,null,59.399999999999984,-2.0328663842261463]
[125,62,56.059645904003446,{"$f":"B9-D$4","v":48},{"$f":"IF(C9>D9,C9-D9,\"\")","v":8.059645904003446},null,null,null,null,null,null,null,null,null,null,57.1,-1.0403540959965563]
[160,62,52.907136379811519,48,4.9071363798115186,null,null,null,null,null,null,null,null,null,null,54.7,-1.7928636201884811]
[200,62,51.209170240694377,48,3.2091702406943767,null,null,null,null,null,null,null,null,null,null,52.79999999999999,-1.5908297593056107]
[250,62,50.317683165683825,48,2.3176831656838246,null,null,null,null,null,null,null,null,null,null,50.29999999999999,1.7683165683833008E-2]
[315,62,48.890163361474322,48,0.89016336147432185,null,null,null,null,null,null,null,null,null,null,49.29999999999999,-0.40983663852566665]
[400,61,45.31873450010864,47,"",null,null,null,null,null,null,null,null,null,null,46.3,-0.98126549989135381]
[500,60,38.870450597476768,46,"",null,null,null,null,null,null,null,null,null,null,39,-0.12954940252323055]
[630,59,32.591215074304934,45,"",null,null,null,null,null,null,null,null,null,null,33.199999999999996,-0.60878492569505926]
[800,58,31.358557606777385,44,"",null,null,null,null,null,null,null,null,null,null,31.699999999999996,-0.34144239322261133]
[1000,57,24.64382717850529,43,"",null,null,null,null,null,null,null,null,null,null,25.799999999999997,-1.156172821494708]
[1250,54,25.418734500108641,40,"",null,null,null,null,null,null,null,null,null,null,26.399999999999995,-0.98126549989135381]
[1600,51,26.243827178505288,37,"",null,null,null,null,null,null,null,null,null,null,27.399999999999995,-1.156172821494708]
[2000,48,22.387055849588386,34,"",null,null,null,null,null,null,null,null,null,null,23.6,-1.2129441504116141]
[2500,45,23.431017074408395,31,"",null,null,null,null,null,null,null,null,null,null,24.699999999999996,-1.2689829255915992]
[3150,42,23.5013504673962,28,"",null,null,null,null,null,null,null,null,null,null,24.599999999999994,-1.0986495326037955]
[]
[null,null,null,{"$f":"IF($E$25<32,$D$25+1,IF($E$25>32,$D$25-1,\"\"))","v":14},{"$f":"SUM(E8:E23)","v":28.750932667441326}]

{"sheet":"Munka1","index":2,"n_rows":8,"n_cols":12,"rows_kept":8,"cut":false,"hidden":false,"merged":[]}
[]
[]
[]
[null,null,0.5,2.7,3,4.0999999999999996,4.5,5.0999999999999996,4.5,2.9,0.7,2]
[null,"K=",{"$f":"SUM(C4:L4)","v":29.999999999999996}]
[null,"Ki=",{"$f":"POWER(10,C4/10)","v":1.1220184543019636},{"$f":"POWER(10,D4/10)","v":1.8620871366628675},{"$f":"POWER(10,E4/10)","v":1.9952623149688797},2.5703957827688639,2.8183829312644542,3.2359365692962836,2.8183829312644542,1.9498445997580454,1.1748975549395295,1.5848931924611136]
[null,"Ski=",{"$f":"SUM(C6:L6)","v":21.132101467686454}]
[null,"Lk=",{"$f":"10*LOG10(C7)","v":13.249426873239365}]

{"sheet":"Munka2","index":3,"n_rows":25,"n_cols":14,"rows_kept":25,"cut":false,"hidden":false,"merged":[[23,3,23,4]]}
[]
[]
[]
[]
[]
[]
[null,null,"fI \nHz ","Ln \ndB ","+19 dB-lel eltolt\nvonatkoztatási\nértékek\ndB ","Kedvezőtlen\neltérés\ndB ","L'n,T\ndB ","L'n,wT (500)\ndB ","Kedvezőtlen\neltérés\ndB"]
[null,null,100,62.1,81,null,{"$f":"'717-2'!C8","v":57.367133615773838},{"$f":"'717-2'!D8","v":48},{"$f":"'717-2'!E8","v":9.3671336157738381}]
[null,null,125,63.2,81,null,{"$f":"'717-2'!C9","v":56.059645904003446},{"$f":"'717-2'!D9","v":48},{"$f":"'717-2'!E9","v":8.059645904003446},null,"Ln.sum=",{"$f":"10*LOG10(POWER(10,$G$8/10)+POWER(10,$G$9/10)+POWER(10,$G$10/10)+POWER(10,$G$11/10)+POWER(10,$G$12/10)+POWER(10,$G$13/10)+POWER(10,$G$14/10)+POWER(10,$G$15/10)+POWER(10,$G$16/10)+POWER(10,$G$17/10)+POWER(10,$G$18/10)+POWER(10,$G$19/10)+POWER(10,$G$20/10)+POWER(10,$G$21/10)+POWER(10,$G$22/10)+POWER(10,$G$23/10))","v":61.784186645376181},"Ksum=",{"$f":"SUM(I8:I23)","v":28.750932667441326}]
[null,null,160,63.5,81,null,{"$f":"'717-2'!C10","v":52.907136379811519},{"$f":"'717-2'!D10","v":48},{"$f":"'717-2'!E10","v":4.9071363798115186}]
[null,null,200,66.2,81,null,{"$f":"'717-2'!C11","v":51.209170240694377},{"$f":"'717-2'!D11","v":48},{"$f":"'717-2'!E11","v":3.2091702406943767},null,null,null,"Ksum=",{"$f":"SUM(F8:F23)","v":28}]
[null,null,250,68.5,81,null,{"$f":"'717-2'!C12","v":50.317683165683825},{"$f":"'717-2'!D12","v":48},{"$f":"'717-2'!E12","v":2.3176831656838246}]
[null,null,315,70,81,null,{"$f":"'717-2'!C13","v":48.890163361474322},{"$f":"'717-2'!D13","v":48},{"$f":"'717-2'!E13","v":0.89016336147432185}]
[null,null,400,71.7,81,null,{"$f":"'717-2'!C14","v":45.31873450010864},{"$f":"'717-2'!D14","v":47},{"$f":"'717-2'!E14","v":""}]
[null,null,500,73.099999999999994,79,null,{"$f":"'717-2'!C15","v":38.870450597476768},{"$f":"'717-2'!D15","v":46},{"$f":"'717-2'!E15","v":""}]
[null,null,630,73.8,78,null,{"$f":"'717-2'!C16","v":32.591215074304934},{"$f":"'717-2'!D16","v":45},{"$f":"'717-2'!E16","v":""}]
[null,null,800,73.5,77,null,{"$f":"'717-2'!C17","v":31.358557606777385},{"$f":"'717-2'!D17","v":44},{"$f":"'717-2'!E17","v":""}]
[null,null,1000,73.8,76,null,{"$f":"'717-2'!C18","v":24.64382717850529},{"$f":"'717-2'!D18","v":43},{"$f":"'717-2'!E18","v":""}]
[null,null,1250,73.3,73,0.3,{"$f":"'717-2'!C19","v":25.418734500108641},{"$f":"'717-2'!D19","v":40},{"$f":"'717-2'!E19","v":""}]
[null,null,1600,73.099999999999994,70,3.1,{"$f":"'717-2'!C20","v":26.243827178505288},{"$f":"'717-2'!D20","v":37},{"$f":"'717-2'!E20","v":""},null,null,"Ci =",{"$f":"H24-15-H15","v":0.78418664537618099}]
[null,null,2000,73,67,6,{"$f":"'717-2'!C21","v":22.387055849588386},{"$f":"'717-2'!D21","v":34},{"$f":"'717-2'!E21","v":""}]
[null,null,2500,72.400000000000006,64,8.4,{"$f":"'717-2'!C22","v":23.431017074408395},{"$f":"'717-2'!D22","v":31},{"$f":"'717-2'!E22","v":""}]
[null,null,3150,71.2,61,10.199999999999999,{"$f":"'717-2'!C23","v":23.5013504673962},{"$f":"'717-2'!D23","v":28},{"$f":"'717-2'!E23","v":""}]
[null,null,null,"L\nn.sum = 83.5 dB\nCI = 83.5 – 15 – 79 = – 10 dB",null,"Összeg\n28.0 < 32.0\nL\nn.w = 79 dB","L'n.sum=",{"$f":"L9","v":61.784186645376181},"Összeg\n30.0 < 32.0\nL\nn.w = 64 dB"]
[null,null,null,null,null,null,"CI = 76.1–15–64 = –3 dB"]